
BEGIN:VCALENDAR
VERSION:2.0
PRODID:-//Arqdeco - ECPv6.15.20//NONSGML v1.0//EN
CALSCALE:GREGORIAN
METHOD:PUBLISH
X-WR-CALNAME:Arqdeco
X-ORIGINAL-URL:https://arqdeco.org
X-WR-CALDESC:Eventos para Arqdeco
REFRESH-INTERVAL;VALUE=DURATION:PT1H
X-Robots-Tag:noindex
X-PUBLISHED-TTL:PT1H
BEGIN:VTIMEZONE
TZID:Europe/Madrid
BEGIN:DAYLIGHT
TZOFFSETFROM:+0100
TZOFFSETTO:+0200
TZNAME:CEST
DTSTART:20240331T010000
END:DAYLIGHT
BEGIN:STANDARD
TZOFFSETFROM:+0200
TZOFFSETTO:+0100
TZNAME:CET
DTSTART:20241027T010000
END:STANDARD
BEGIN:DAYLIGHT
TZOFFSETFROM:+0100
TZOFFSETTO:+0200
TZNAME:CEST
DTSTART:20250330T010000
END:DAYLIGHT
BEGIN:STANDARD
TZOFFSETFROM:+0200
TZOFFSETTO:+0100
TZNAME:CET
DTSTART:20251026T010000
END:STANDARD
BEGIN:DAYLIGHT
TZOFFSETFROM:+0100
TZOFFSETTO:+0200
TZNAME:CEST
DTSTART:20260329T010000
END:DAYLIGHT
BEGIN:STANDARD
TZOFFSETFROM:+0200
TZOFFSETTO:+0100
TZNAME:CET
DTSTART:20261025T010000
END:STANDARD
END:VTIMEZONE
BEGIN:VEVENT
DTSTART;VALUE=DATE:20250507
DTEND;VALUE=DATE:20250509
DTSTAMP:20260424T203303
CREATED:20250128T150115Z
LAST-MODIFIED:20250502T110749Z
UID:96954-1746576000-1746748799@arqdeco.org
SUMMARY:ARQ/DECÓ Pamesa 2025\, nueva edición de la pasarela de tendencias en arquitectura y diseño\, 7 y 8 de mayo
DESCRIPTION:Después del éxito rotundo de la edición de 2024\, ARQ/DECÓ 2025 se prepara para sorprender nuevamente al mundo de la arquitectura y el interiorismo. \nLos próximos días 7 y 8 de mayo\, las instalaciones de  Pamesa Cerámica\, se convertirán en el epicentro de la creatividad\, la innovación y las tendencias más vanguardistas del diseño contemporáneo. \nEsta nueva edición de la Pasarela de Tendencias ARQ/DECÓ\, consolidada como uno de los eventos más importantes del sector\, promete superar todas las expectativas. Con un programa lleno de ponencias de alto nivel\, la cita reunirá a arquitectos e interioristas de renombre internacional\, quienes compartirán sus visiones sobre el futuro del diseño\, los avances tecnológicos en arquitectura y las últimas tendencias en el diseño de espacios. \nDía 7 de mayo: Un día repleto de talento y creatividad\nEl primer día de ARQ/DECÓ estará marcado por una serie de ponencias de profesionales que han dejado una huella indeleble en el mundo del diseño. Entre los destacados ponentes de este día se encuentran: \n  \nFrancesc Rifé\, reconocido internacionalmente\, ofrecerá su visión sobre la arquitectura \ny el interiorismo contemporáneo\, destacando el equilibrio entre el diseño minimalista y la sostenibilidad. \n  \n \nPia Capdevila\, una de las voces más influyentes en el mundo del diseño\, \ncompartirá su visión sobre la evolución del interiorismo\, destacando \nsu enfoque personalizado y único. \n  \nJosé Manuel Ferrero – estudi{H}ac\, quien compartirá sus enfoques innovadores \nen el diseño de interiores y arquitectura\, fusionando estética y funcionalidad de manera única. \n \nBruno Arnau de Acierta Retail\, una firma de diseño especializado \nen espacios comerciales\, que nos hablará  de las nuevas estrategias para crear \nexperiencias de compra memorables y de vanguardia. \n \nRaúl Torres de Arquitectura Torres y Asociados\, comentará sus experiencia \ngenerando arquitectura de gran funcionalidad y alta eficiencia energética \ncon calidad estética y constructiva. \n  \n  \nReserva de plazas:\n \n  \n  \n  \n  \nDía 8 de mayo: Nuevas perspectivas para el diseño del futuro\nEl segundo día de ARQ/DECÓ 2025 contará con una impresionante selección de ponentes\, que continuarán explorando los límites de la arquitectura y el interiorismo: \n \nBelén y Jeff\, fundadores de Estudio Moneo Brock\, explorarán cómo la arquitectura \npuede contribuir a la creación de entornos más humanos y sostenibles\, poniendo \nénfasis en la relación entre el diseño y el bienestar de las personas. \n \nAlejandro Domenech de Cel-Ras\, experto en el uso de cerámica y materiales innovadores\, \nnos dará una visión profunda sobre cómo los materiales pueden transformar los espacios. \n \nGuillermo García-Hoz\, un arquitecto conocido por sus proyectos que combinan la \narquitectura tradicional con soluciones innovadoras\, nos hablará sobre la importancia \nde preservar la identidad en los proyectos de diseño. \n \nPepe Cosín\, del reconocido Cosín Estudio\, presentará su perspectiva sobre cómo las \ntendencias y las necesidades de los usuarios influyen en el diseño arquitectónico de \nespacios funcionales y estéticos. \n\n \n  \nAndoni Díaz\, copresentador del evento y gran amigo de ARQ/DECÓ\, repetirá como moderador este año. \nAndoni\, CEO de AD Estudio y presidente del Consejo General de Colegios Oficiales de Decoradores y Diseñadores de Interior\, es reconocido por su capacidad para conectar con el público y su profundo conocimiento en el ámbito de la arquitectura y el interiorismo. \nAportará su estilo único para moderar y guiar las ponencias\, asegurando una experiencia enriquecedora para todos los asistentes. \n\n  \nLas instalaciones de Pamesa Cerámica\, (en Calle Pina de Montalgrao\, Vila-real – Onda\, 2\, Km 2\, 7\, 12540 Villarreal\, Castellón)\, sede de este evento\, serán el escenario ideal para disfrutar de estas ponencias. Con un firme compromiso con la innovación y la excelencia en el diseño\, Pamesa ofrece un entorno único que complementará la experiencia de los asistentes\, sumergiéndolos en el mundo de las últimas tendencias en cerámica y arquitectura. \nARQ/DECÓ 2025 promete ser una de las ediciones más ambiciosas hasta la fecha\, con un programa lleno de contenido relevante\, ponencias inspiradoras y la oportunidad de interactuar con algunos de los nombres más destacados en el mundo del diseño. Si eres un apasionado de la arquitectura y el interiorismo\, no puedes perderte esta oportunidad única de estar al día con las tendencias más innovadoras y descubrir los proyectos que están marcando el futuro del diseño. \n¡Marca en tu calendario los días 7 y 8 de mayo de 2025! La Pasarela de Tendencias ARQ/DECÓ será el lugar donde el futuro del diseño tomará forma. ¡Te esperamos en Pamesa Cerámica para seguir construyendo juntos el futuro del diseño! \nReserva de plazas:\n \n  \n  \n \n 
URL:https://arqdeco.org/evento/arq-deco-pamesa-2025-nueva-edicion-de-la-pasarela-de-tendencias-en-arquitectura-y-diseno-7-y-8-de-mayo/
ATTACH;FMTTYPE=image/jpeg:https://arqdeco.org/wp-content/uploads/2025/01/Publi-ARQDECO-2025_alargado.jpg
END:VEVENT
BEGIN:VEVENT
DTSTART;VALUE=DATE:20250527
DTEND;VALUE=DATE:20250528
DTSTAMP:20260424T203303
CREATED:20250417T135308Z
LAST-MODIFIED:20250417T135308Z
UID:99686-1748304000-1748390399@arqdeco.org
SUMMARY:CERÁMICA\, ARQUITECTURA Y GASTRONOMÍA EN PAMESA MEETDESIGN BARCELONA
DESCRIPTION:El próximo 27 de mayo de 2025 a las 11:30h\, La Foodieteca\, en el corazón de Barcelona\, será el escenario de una experiencia única en la que la cerámica\, la arquitectura y la alta cocina se fusionan para ofrecer una jornada inolvidable: PAMESA MEETDESIGN. \nEste evento\, organizado por Pamesa Cerámica\, nace con el objetivo de acercar la innovación y la creatividad del sector cerámico a los estudios de arquitectura e interiorismo más destacados de Catalunya. Se trata de una experiencia que va mucho más allá de una simple presentación de producto: es un espacio de inspiración y networking\, una experiencia que une el diseño con el sabor. \nPAMESA MEETDESIGN está concebido como un punto de encuentro exclusivo para profesionales del sector creativo\, donde podrán descubrir en primicia las últimas colecciones y propuestas de Pamesa Cerámica\, una firma que destaca por su constante apuesta por la innovación\, el diseño y la calidad. \nDurante la jornada\, los asistentes podrán disfrutar de una experiencia gastronómica cuidadosamente diseñada\, donde los sabores\, texturas y presentaciones se alinean con los valores estéticos de la marca. En este maridaje entre gastronomía y diseño\, cada detalle está pensado para ofrecer una experiencia sensorial integral\, que inspire y estimule la creatividad de los asistentes. \n  \n \nEl evento contará con la presencia de Francisco Ortiz\, representante de Pamesa Cerámica\, quien compartirá con los invitados la visión estratégica de la marca\, sus valores y el proceso de creación que hay detrás de cada pieza cerámica. Esta cercanía con los profesionales permitirá generar sinergias\, abrir canales de colaboración y dar respuesta directa a las necesidades del sector. \nAdemás\, se fomentará un espacio abierto al intercambio de ideas\, donde arquitectos\, diseñadores\, interioristas y creativos podrán conectar entre sí en un ambiente relajado\, distendido y cargado de estímulos. \nLa Foodieteca\, ubicada en un entorno privilegiado de Barcelona\, es mucho más que un espacio para eventos: es un laboratorio de experiencias. Su arquitectura tipo loft neoyorquino\, con techos altos\, espacios abiertos y una atmósfera acogedora\, la convierte en el lugar ideal para este tipo de iniciativas que apuestan por la calidad\, el detalle y la exclusividad. \nGracias al acompañamiento de su equipo de profesionales y a su capacidad de adaptación a distintos formatos\, La Foodieteca garantiza el éxito de eventos como PAMESA MEETDESIGN\, en los que cada elemento debe estar en perfecta sintonía. \n \nCon esta iniciativa\, Pamesa Cerámica\, empresa matriz del Grupo Pamesa\, reafirma su liderazgo en el sector cerámico a nivel nacional e internacional\, consolidando su compromiso con los profesionales del diseño\, la arquitectura y la construcción. \nLa compañía\, reconocida por ofrecer productos cerámicos de alta calidad\, diseño contemporáneo y excelente relación calidad-precio\, apuesta por la innovación constante y la colaboración directa con el sector profesional como pilares fundamentales de su crecimiento. \n \n  \n 
URL:https://arqdeco.org/evento/ceramica-arquitectura-y-gastronomia-en-pamesa-meetdesign-barcelona/
ATTACH;FMTTYPE=image/jpeg:https://arqdeco.org/wp-content/uploads/2025/04/INVITACION-barcelona-01.jpg
END:VEVENT
END:VCALENDAR